BEGIN:VCALENDAR
VERSION:2.0
PRODID:-//Ricks Garden Center - ECPv6.15.4//NONSGML v1.0//EN
CALSCALE:GREGORIAN
METHOD:PUBLISH
X-WR-CALNAME:Ricks Garden Center
X-ORIGINAL-URL:https://www.ricksgarden.com
X-WR-CALDESC:Events for Ricks Garden Center
REFRESH-INTERVAL;VALUE=DURATION:PT1H
X-Robots-Tag:noindex
X-PUBLISHED-TTL:PT1H
BEGIN:VTIMEZONE
TZID:America/Denver
BEGIN:DAYLIGHT
TZOFFSETFROM:-0700
TZOFFSETTO:-0600
TZNAME:MDT
DTSTART:20210314T090000
END:DAYLIGHT
BEGIN:STANDARD
TZOFFSETFROM:-0600
TZOFFSETTO:-0700
TZNAME:MST
DTSTART:20211107T080000
END:STANDARD
END:VTIMEZONE
BEGIN:VEVENT
DTSTART;VALUE=DATE:20211107
DTEND;VALUE=DATE:20211108
DTSTAMP:20260425T122728
CREATED:20211028T220139Z
LAST-MODIFIED:20211101T214943Z
UID:14363-1636243200-1636329599@www.ricksgarden.com
SUMMARY:Plant Swap - CANCELED
DESCRIPTION:We’re so sorry\, but due to unforeseen circumstances\, we have had to cancel our November Plant Swap.
URL:https://www.ricksgarden.com/event/plant-swap/
CATEGORIES:Plant Swap
END:VEVENT
END:VCALENDAR